BEGIN:VCALENDAR
VERSION:2.0
PRODID:-//hacksw/handcal//NONSGML v1.0//EN
BEGIN:VEVENT
UID:6305423f0b4eadc7c3f1f884072f672b
DTSTAMP:20260420T010759Z

DTSTART:20231101T100000
DTEND:20231101T113000
SUMMARY:Attracting & Engaging the Next Generation of Homebuyers Class (In-Person Class)
DESCRIPTION:Wednesday, November 1st from 10:00 AM to 11:30 AM MDT\nPresented by Michelle Oddo of Luminate Home Loans\nFirst Integrity Title DTC Office\n4600 S Ulster St – Blue Spruce Room\nDenver, CO 80237\n0 CE | No Cost\n\nNeed more buyers? Join us for this engaging hour-long course where real estate agents will discover the strategies and skills essential for navigating and attracting the next generation of homebuyers. Michelle Oddo will guide you through new strategies and techniques to generate buyers in our shifting market. Register today – space is limited!

X-ALT-DESC;FMTTYPE=text/html:<!DOCTYPE HTML PUBLIC "-//W3C//DTD HTML 3.2//EN">\n<HTML>\n<HEAD>\n<META NAME="Generator" CONTENT="MS Exchange Server version 08.00.0681.000">\n<TITLE></TITLE>\n</HEAD>\n<BODY>\n<!-- Converted from text/rtf format -->\n\nWednesday, November 1st from 10:00 AM to 11:30 AM MDT<br />Presented by Michelle Oddo of Luminate Home Loans<br />First Integrity Title DTC Office<br />4600 S Ulster St – Blue Spruce Room<br />Denver, CO 80237<br />0 CE | No Cost<br /><br />Need more buyers? Join us for this engaging hour-long course where real estate agents will discover the strategies and skills essential for navigating and attracting the next generation of homebuyers. Michelle Oddo will guide you through new strategies and techniques to generate buyers in our shifting market. Register today – space is limited!\n\n</BODY>\n</HTML>

LOCATION:4600, South Ulster Street, Denver Tech Center, Denver, Colorado, 80237, United States
END:VEVENT

END:VCALENDAR
