BEGIN:VCALENDAR
VERSION:2.0
PRODID:-//hacksw/handcal//NONSGML v1.0//EN
BEGIN:VEVENT
UID:621e95fe931d4af1b0522cf9864ae0a3
DTSTAMP:20260420T024945Z

DTSTART:20240627T070000
DTEND:20240629T190000
SUMMARY:QUEST Expo 2024
DESCRIPTION:From interactive workshops to panel discussions and live case studies, this event promises an immersive and dynamic environment that will expand your understanding of alternative investment vehicles. Don’t miss this unique opportunity to gain a competitive edge in the ever-evolving investment landscape.\n\nIf the only thing standing between you and your next opportunity is the right education or the right deal, the Quest Expo is here to help remove those obstacles.\n\nRetire rich in real estate and grab your tickets today!

X-ALT-DESC;FMTTYPE=text/html:<!DOCTYPE HTML PUBLIC "-//W3C//DTD HTML 3.2//EN">\n<HTML>\n<HEAD>\n<META NAME="Generator" CONTENT="MS Exchange Server version 08.00.0681.000">\n<TITLE></TITLE>\n</HEAD>\n<BODY>\n<!-- Converted from text/rtf format -->\n\nFrom interactive workshops to panel discussions and live case studies, this event promises an immersive and dynamic environment that will expand your understanding of alternative investment vehicles. Don’t miss this unique opportunity to gain a competitive edge in the ever-evolving investment landscape.<br /><br />If the only thing standing between you and your next opportunity is the right education or the right deal, the Quest Expo is here to help remove those obstacles.<br /><br />Retire rich in real estate and grab your tickets today!\n\n</BODY>\n</HTML>

LOCATION:Irving Convention Center, Promenade Court, Irving, Dallas County, Texas, 75039, United States
END:VEVENT

END:VCALENDAR
