BEGIN:VCALENDAR
VERSION:2.0
PRODID:-//hacksw/handcal//NONSGML v1.0//EN
BEGIN:VEVENT
UID:eaaef26345a7287172ad44594d9039a1
DTSTAMP:20260420T101914Z

DTSTART:20231114T090000
DTEND:20231114T130000
SUMMARY:In Depth Contract Review
DESCRIPTION:This four-hour In-Depth class goes into each section of the Contract and explores the options available to complete the contract. Many pitfalls and trip hazards are present in the Contract and care must be taken when completing the Contract so that you as a Broker and your clients are not exposed to unnecessary risk. A well written Contract also gives your clients the best possible chance of gaining a deal. Gain the knowledge you need about the entire Contract. The CBS1 Contract is extremely detailed and close to 20 pages long. It is a complicated contract and one that the Real Estate Commission expects Brokers to fully understand and be able to advise their clients on its proper preparation. The risks are many if the Contract is not properly prepared. This class will give you the knowledge you need to understand the complete Contract.\n\nCost - $40\nCredits - 4\n\nInstructor Name - Steven Olson\nCompany Name - RE/MAX Masters Millenium

X-ALT-DESC;FMTTYPE=text/html:<!DOCTYPE HTML PUBLIC "-//W3C//DTD HTML 3.2//EN">\n<HTML>\n<HEAD>\n<META NAME="Generator" CONTENT="MS Exchange Server version 08.00.0681.000">\n<TITLE></TITLE>\n</HEAD>\n<BODY>\n<!-- Converted from text/rtf format -->\n\nThis four-hour In-Depth class goes into each section of the Contract and explores the options available to complete the contract. Many pitfalls and trip hazards are present in the Contract and care must be taken when completing the Contract so that you as a Broker and your clients are not exposed to unnecessary risk. A well written Contract also gives your clients the best possible chance of gaining a deal. Gain the knowledge you need about the entire Contract. The CBS1 Contract is extremely detailed and close to 20 pages long. It is a complicated contract and one that the Real Estate Commission expects Brokers to fully understand and be able to advise their clients on its proper preparation. The risks are many if the Contract is not properly prepared. This class will give you the knowledge you need to understand the complete Contract.<br /><br />Cost - $40<br />Credits - 4<br /><br />Instructor Name - Steven Olson<br />Company Name - RE/MAX Masters Millenium\n\n</BODY>\n</HTML>

LOCATION:
END:VEVENT

END:VCALENDAR
