BEGIN:VCALENDAR
VERSION:2.0
PRODID:-//hacksw/handcal//NONSGML v1.0//EN
BEGIN:VEVENT
UID:81e50e24a04fb90067ec9bf481e28f56
DTSTAMP:20260420T094214Z

DTSTART:20231115T130000
DTEND:20231115T140000
SUMMARY:3rd Quarter 2023 Trends
DESCRIPTION:Wednesday, November 15, 2023 from 1:00 PM to 2:00 PM           \nLIVE Webinar - Online Event\n\nClients always ask “How’s the market?” This class gives you specific talking points about the current trends!\nThis class gives you specific talking points to sound like an expert on the trends for the previous quarter. We also discuss how you can use the information for listing presentations, and for buyers who aren’t sure if “now is the time to trade up” or if they should wait until later.

X-ALT-DESC;FMTTYPE=text/html:<!DOCTYPE HTML PUBLIC "-//W3C//DTD HTML 3.2//EN">\n<HTML>\n<HEAD>\n<META NAME="Generator" CONTENT="MS Exchange Server version 08.00.0681.000">\n<TITLE></TITLE>\n</HEAD>\n<BODY>\n<!-- Converted from text/rtf format -->\n\nWednesday, November 15, 2023 from 1:00 PM to 2:00 PM           <br />LIVE Webinar - Online Event<br /><br />Clients always ask “How’s the market?” This class gives you specific talking points about the current trends!<br />This class gives you specific talking points to sound like an expert on the trends for the previous quarter. We also discuss how you can use the information for listing presentations, and for buyers who aren’t sure if “now is the time to trade up” or if they should wait until later.\n\n</BODY>\n</HTML>

LOCATION:
END:VEVENT

END:VCALENDAR
