BEGIN:VCALENDAR
VERSION:2.0
PRODID:-//hacksw/handcal//NONSGML v1.0//EN
BEGIN:VEVENT
UID:ca2393bb2846a2bf5ff2bb78936eb375
DTSTAMP:20260420T030500Z

DTSTART:20240310T070000
DTEND:20240313T190000
SUMMARY:National Land Conference 2024
DESCRIPTION:The annual National Land Conference (NLC) is a destination event for land professionals who are serious about a career in land real estate. The expertise, connections, and collaboration that happen at National Land Conference help attendees grow their businesses, more confidently assist clients, and close more deals. NLC is the premier industry event for land real estate agents and partners in land related businesses to share ideas, learn about new technologies and services, and gain the expertise needed to be among the best in land.

X-ALT-DESC;FMTTYPE=text/html:<!DOCTYPE HTML PUBLIC "-//W3C//DTD HTML 3.2//EN">\n<HTML>\n<HEAD>\n<META NAME="Generator" CONTENT="MS Exchange Server version 08.00.0681.000">\n<TITLE></TITLE>\n</HEAD>\n<BODY>\n<!-- Converted from text/rtf format -->\n\nThe annual National Land Conference (NLC) is a destination event for land professionals who are serious about a career in land real estate. The expertise, connections, and collaboration that happen at National Land Conference help attendees grow their businesses, more confidently assist clients, and close more deals. NLC is the premier industry event for land real estate agents and partners in land related businesses to share ideas, learn about new technologies and services, and gain the expertise needed to be among the best in land.\n\n</BODY>\n</HTML>

LOCATION:Louisville, Jefferson County, Kentucky, United States
END:VEVENT

END:VCALENDAR
