BEGIN:VCALENDAR
VERSION:2.0
PRODID:-//hacksw/handcal//NONSGML v1.0//EN
BEGIN:VEVENT
UID:9046b8afc4f5199cbc4c93a1344cce7f
DTSTAMP:20260420T033519Z

DTSTART:20240924T080000
DTEND:20240926T180000
SUMMARY:REimagine 2024
DESCRIPTION:We can’t wait to walk the exhibit hall floor with you, party it up at our after-hours event and forge meaningful, career building relationships with thousands of real estate pros from across the state. This can’t-miss three-day event is packed with FUN, educational, and interactive experiences to help you stay ahead in your business. Whether you’re an industry veteran or brand-new agent, REimagine! is packed with timely, relevant information you need right now. Learn valuable strategies from CEOs, thought leaders and subject matter experts, dig into hot topics, and talk about the biggest industry challenges and opportunities, and find hundreds of valuable takeaways to strengthen and grow your business.

X-ALT-DESC;FMTTYPE=text/html:<!DOCTYPE HTML PUBLIC "-//W3C//DTD HTML 3.2//EN">\n<HTML>\n<HEAD>\n<META NAME="Generator" CONTENT="MS Exchange Server version 08.00.0681.000">\n<TITLE></TITLE>\n</HEAD>\n<BODY>\n<!-- Converted from text/rtf format -->\n\nWe can’t wait to walk the exhibit hall floor with you, party it up at our after-hours event and forge meaningful, career building relationships with thousands of real estate pros from across the state. This can’t-miss three-day event is packed with FUN, educational, and interactive experiences to help you stay ahead in your business. Whether you’re an industry veteran or brand-new agent, REimagine! is packed with timely, relevant information you need right now. Learn valuable strategies from CEOs, thought leaders and subject matter experts, dig into hot topics, and talk about the biggest industry challenges and opportunities, and find hundreds of valuable takeaways to strengthen and grow your business.\n\n</BODY>\n</HTML>

LOCATION:Long Beach Convention Center, East Ocean Boulevard, Long Beach, Los Angeles County, California, 90802, United States
END:VEVENT

END:VCALENDAR
