BEGIN:VCALENDAR
VERSION:2.0
PRODID:-//hacksw/handcal//NONSGML v1.0//EN
BEGIN:VEVENT
UID:31b8528f0bc48118d424552b6f4162e3
DTSTAMP:20260420T041455Z

DTSTART:20240306T070000
DTEND:20240307T190000
SUMMARY:OREA REALiTY Conference 2024 
DESCRIPTION:Grow your referral network and begin looking at the industry with a new perspective as you connect with over 1,000 like-minded REALTORS® looking to better their businesses.\n\nStay on top of emerging trends and take your business to the next level by hearing from some of the greatest minds in marketing, real estate, and technology, all in one place.

X-ALT-DESC;FMTTYPE=text/html:<!DOCTYPE HTML PUBLIC "-//W3C//DTD HTML 3.2//EN">\n<HTML>\n<HEAD>\n<META NAME="Generator" CONTENT="MS Exchange Server version 08.00.0681.000">\n<TITLE></TITLE>\n</HEAD>\n<BODY>\n<!-- Converted from text/rtf format -->\n\nGrow your referral network and begin looking at the industry with a new perspective as you connect with over 1,000 like-minded REALTORS® looking to better their businesses.<br /><br />Stay on top of emerging trends and take your business to the next level by hearing from some of the greatest minds in marketing, real estate, and technology, all in one place.\n\n</BODY>\n</HTML>

LOCATION:Shaw Centre, 55, Colonel By Drive, Byward Market, Rideau-Vanier, (Old) Ottawa, Ottawa, Eastern Ontario, Ontario, K1N 9J2, Canada
END:VEVENT

END:VCALENDAR
