BEGIN:VCALENDAR
VERSION:2.0
PRODID:-//hacksw/handcal//NONSGML v1.0//EN
BEGIN:VEVENT
UID:0ad8cadd4c1f5be7d372fdaf5cc1cb7c
DTSTAMP:20260420T045846Z

DTSTART:20240119T123000
DTEND:20240119T143000
SUMMARY:Florida Realtors Real Estate Trends Summit 2024
DESCRIPTION:Every year, the Florida Real Estate Trends summit gives Realtors the insight they need to prepare for the coming year. On Thursday, January 19, 2023, you can attend the event live at the Florida Realtors® Mid-Winter Business Meetings or virtually from the comfort of your office/home.

X-ALT-DESC;FMTTYPE=text/html:<!DOCTYPE HTML PUBLIC "-//W3C//DTD HTML 3.2//EN">\n<HTML>\n<HEAD>\n<META NAME="Generator" CONTENT="MS Exchange Server version 08.00.0681.000">\n<TITLE></TITLE>\n</HEAD>\n<BODY>\n<!-- Converted from text/rtf format -->\n\nEvery year, the Florida Real Estate Trends summit gives Realtors the insight they need to prepare for the coming year. On Thursday, January 19, 2023, you can attend the event live at the Florida Realtors® Mid-Winter Business Meetings or virtually from the comfort of your office/home.\n\n</BODY>\n</HTML>

LOCATION:Hyatt Regency Orlando, 9801, International Drive, Orlando, Orange County, Florida, 32819, United States
END:VEVENT

END:VCALENDAR
