BEGIN:VCALENDAR
VERSION:2.0
PRODID:-//hacksw/handcal//NONSGML v1.0//EN
BEGIN:VEVENT
UID:ecf98823eff7536ba8ccff916cd1e70a
DTSTAMP:20260420T010849Z

DTSTART:20171216T180000
DTEND:20171216T213000
SUMMARY:Business Networking w/ Colorado Blizzard (Major Arena Soccer League)
DESCRIPTION:WHAT: Arena Soccer is a Hybrid sport, like Hockey w/o sticks unlimited substitution of multiple lines of players and Blue Card PowerPlay penalties - but High Scoring averaging a DOZEN goals per game.\n\nBefore the match, Gregg Moss will be hosting a Metro North Chamber business networking event back stage so a couple hundred of your business peers may be there already. Don't miss this historic event!\n\nUse Promo Code "BlizzardBOGO" to get half price tickets and email me for VIP badged access to the floor and back stage in the Denver Coliseum.\n\nEd Hooks Jr.\nSteps Real Estate 100  + \ned@coblizz.com  - Colorado Blizzard Sports - VP Strategy & Production Logistics

X-ALT-DESC;FMTTYPE=text/html:<!DOCTYPE HTML PUBLIC "-//W3C//DTD HTML 3.2//EN">\n<HTML>\n<HEAD>\n<META NAME="Generator" CONTENT="MS Exchange Server version 08.00.0681.000">\n<TITLE></TITLE>\n</HEAD>\n<BODY>\n<!-- Converted from text/rtf format -->\n\nWHAT: Arena Soccer is a Hybrid sport, like Hockey w/o sticks unlimited substitution of multiple lines of players and Blue Card PowerPlay penalties - but High Scoring averaging a DOZEN goals per game.<br /><br />Before the match, Gregg Moss will be hosting a Metro North Chamber business networking event back stage so a couple hundred of your business peers may be there already. Don't miss this historic event!<br /><br />Use Promo Code "BlizzardBOGO" to get half price tickets and email me for VIP badged access to the floor and back stage in the Denver Coliseum.<br /><br />Ed Hooks Jr.<br />Steps Real Estate 100  + <br />ed@coblizz.com  - Colorado Blizzard Sports - VP Strategy & Production Logistics\n\n</BODY>\n</HTML>

LOCATION:4600 Humboldt St, Denver, CO 80216, USA
END:VEVENT

END:VCALENDAR
