BEGIN:VCALENDAR
VERSION:2.0
PRODID:-//hacksw/handcal//NONSGML v1.0//EN
BEGIN:VEVENT
UID:f0cdf1c860733b42225bdf1982187c98
DTSTAMP:20260419T200253Z

DTSTART:20240119T120000
DTEND:20240121T170000
SUMMARY:The Lodi Home Improvement Show 2024
DESCRIPTION:Come shop and support the very best local home improvement vendors all under one roof! Talk to the experts and tips and advise on your next project. Take advantage of show only pricing! You’ll find windows & door, kitchens & bathrooms, gutters & flooring, painting & coating, pest control & home security, whole house fans & HVAC, solar, bedding & vacation rentals, curbing and stone mailboxes, pools & spas, pavers and turf, outdoors kitchens, cash & carry items and more!\n\nThe The Lodi Home Improvement Show will be held on Jan 19th-21st, 2024 in Lodi, CA. This Lodi home show is held at Lodi Grape Festival Grounds and hosted by Metro Expositions.

X-ALT-DESC;FMTTYPE=text/html:<!DOCTYPE HTML PUBLIC "-//W3C//DTD HTML 3.2//EN">\n<HTML>\n<HEAD>\n<META NAME="Generator" CONTENT="MS Exchange Server version 08.00.0681.000">\n<TITLE></TITLE>\n</HEAD>\n<BODY>\n<!-- Converted from text/rtf format -->\n\nCome shop and support the very best local home improvement vendors all under one roof! Talk to the experts and tips and advise on your next project. Take advantage of show only pricing! You’ll find windows & door, kitchens & bathrooms, gutters & flooring, painting & coating, pest control & home security, whole house fans & HVAC, solar, bedding & vacation rentals, curbing and stone mailboxes, pools & spas, pavers and turf, outdoors kitchens, cash & carry items and more!<br /><br />The The Lodi Home Improvement Show will be held on Jan 19th-21st, 2024 in Lodi, CA. This Lodi home show is held at Lodi Grape Festival Grounds and hosted by Metro Expositions.\n\n</BODY>\n</HTML>

LOCATION:413, East Lockeford Street, Lodi, San Joaquin County, California, 95240, United States
END:VEVENT

END:VCALENDAR
