BEGIN:VCALENDAR
VERSION:2.0
PRODID:-//hacksw/handcal//NONSGML v1.0//EN
BEGIN:VEVENT
UID:35a0fbf34866fd3d7d578eac8b440b11
DTSTAMP:20260420T024815Z

DTSTART:20240118T133000
DTEND:20240118T153000
SUMMARY:Beginner CTM eContracts Webinar
DESCRIPTION:Thursday, January 18th from 1:30PM to 3:30PM\nPresented by CTM eContracts\n2 CE Credits for Colorado Agents | $20 Per Person\n\nWe will spend time showing you how to get your account set up under Utilities, Personal Setting and learn how to create your Client Folders plus walk through how to upload all outside corresponding documents into your digital file. After registering, you will be provided with the meeting link 1 day prior to the webinar date with login instructions from MRI education services. Note: there is also a 0 CE /complimentary option for this webinar, please login to your Training Academy account and register/pay for the 0 CE option instead.

X-ALT-DESC;FMTTYPE=text/html:<!DOCTYPE HTML PUBLIC "-//W3C//DTD HTML 3.2//EN">\n<HTML>\n<HEAD>\n<META NAME="Generator" CONTENT="MS Exchange Server version 08.00.0681.000">\n<TITLE></TITLE>\n</HEAD>\n<BODY>\n<!-- Converted from text/rtf format -->\n\nThursday, January 18th from 1:30PM to 3:30PM<br />Presented by CTM eContracts<br />2 CE Credits for Colorado Agents | $20 Per Person<br /><br />We will spend time showing you how to get your account set up under Utilities, Personal Setting and learn how to create your Client Folders plus walk through how to upload all outside corresponding documents into your digital file. After registering, you will be provided with the meeting link 1 day prior to the webinar date with login instructions from MRI education services. Note: there is also a 0 CE /complimentary option for this webinar, please login to your Training Academy account and register/pay for the 0 CE option instead.\n\n</BODY>\n</HTML>

LOCATION:
END:VEVENT

END:VCALENDAR
