BEGIN:VCALENDAR
VERSION:2.0
PRODID:-//hacksw/handcal//NONSGML v1.0//EN
BEGIN:VEVENT
UID:a8bfd05e9a9cc02a45f6c58ee27152d7
DTSTAMP:20260420T144129Z

DTSTART:20240420T100000
DTEND:20240421T160000
SUMMARY:Sonora California Home & Garden Show 2024
DESCRIPTION:The 41st Annual Sonora California Home & Garden Show will be held on Apr 20th-21st, 2024 in Sonora, CA. This Sonora home show is held at Mother Lode Fairgrounds and hosted by Union Democrat.

X-ALT-DESC;FMTTYPE=text/html:<!DOCTYPE HTML PUBLIC "-//W3C//DTD HTML 3.2//EN">\n<HTML>\n<HEAD>\n<META NAME="Generator" CONTENT="MS Exchange Server version 08.00.0681.000">\n<TITLE></TITLE>\n</HEAD>\n<BODY>\n<!-- Converted from text/rtf format -->\n\nThe 41st Annual Sonora California Home & Garden Show will be held on Apr 20th-21st, 2024 in Sonora, CA. This Sonora home show is held at Mother Lode Fairgrounds and hosted by Union Democrat.\n\n</BODY>\n</HTML>

LOCATION:220, Southgate Drive, Sonora, Tuolumne County, California, 95370, United States
END:VEVENT

END:VCALENDAR
