BEGIN:VCALENDAR
VERSION:2.0
PRODID:-//hacksw/handcal//NONSGML v1.0//EN
BEGIN:VEVENT
UID:5821e0c908415426afe342de23373371
DTSTAMP:20260420T091341Z

DTSTART:20240517T110000
DTEND:20240519T160000
SUMMARY:Auburn Spring Home Show 2024
DESCRIPTION:Join us for the Auburn Spring Home Show at the Gold County Fairgrounds.\n\nThere will be hundreds of exhibits for home building, remodeling, and decorating. There will be fine outdoor living with sunrooms, awnings, decks, pavers, and fire pits. Find the latest energy efficiency with solar, HVAC, or back-up generators. You are sure to enjoy this show experience.\n\nA variety of tasty food items will be at the International Food Court. Including garlic fries, seafood, tacos, smoothies, wine or beer and much more.\n\nThe Auburn Spring Home Show will be held on May 17th-19th, 2024 in Auburn, CA. This Auburn home show is held at Gold County Fairgrounds and hosted by Auburn Home Shows.

X-ALT-DESC;FMTTYPE=text/html:<!DOCTYPE HTML PUBLIC "-//W3C//DTD HTML 3.2//EN">\n<HTML>\n<HEAD>\n<META NAME="Generator" CONTENT="MS Exchange Server version 08.00.0681.000">\n<TITLE></TITLE>\n</HEAD>\n<BODY>\n<!-- Converted from text/rtf format -->\n\nJoin us for the Auburn Spring Home Show at the Gold County Fairgrounds.<br /><br />There will be hundreds of exhibits for home building, remodeling, and decorating. There will be fine outdoor living with sunrooms, awnings, decks, pavers, and fire pits. Find the latest energy efficiency with solar, HVAC, or back-up generators. You are sure to enjoy this show experience.<br /><br />A variety of tasty food items will be at the International Food Court. Including garlic fries, seafood, tacos, smoothies, wine or beer and much more.<br /><br />The Auburn Spring Home Show will be held on May 17th-19th, 2024 in Auburn, CA. This Auburn home show is held at Gold County Fairgrounds and hosted by Auburn Home Shows.\n\n</BODY>\n</HTML>

LOCATION:1273, High Street, Auburn, Placer County, California, 95603, United States
END:VEVENT

END:VCALENDAR
