BEGIN:VCALENDAR
VERSION:2.0
PRODID:-//hacksw/handcal//NONSGML v1.0//EN
BEGIN:VEVENT
UID:94aa55a3a94ea8858f95794fffad93bf
DTSTAMP:20260420T105300Z

DTSTART:20190624T070000
DTEND:20190624T114500
SUMMARY:2019 Development & Design Conference
DESCRIPTION:LOCATION: Hyatt Regency Aurora-Denver Conference Center 4 hours of real estate continuing education credit have been applied for. We anticipate this to be the largest development and design conference of the year in Colorado with more than 300 developers, architects, land planners, municipal representatives and related professionals.

X-ALT-DESC;FMTTYPE=text/html:<!DOCTYPE HTML PUBLIC "-//W3C//DTD HTML 3.2//EN">\n<HTML>\n<HEAD>\n<META NAME="Generator" CONTENT="MS Exchange Server version 08.00.0681.000">\n<TITLE></TITLE>\n</HEAD>\n<BODY>\n<!-- Converted from text/rtf format -->\n\n<p>LOCATION: Hyatt Regency Aurora-Denver Conference Center 4 hours of real estate continuing education credit have been applied for. We anticipate this to be the largest development and design conference of the year in Colorado with more than 300 developers, architects, land planners, municipal representatives and related professionals.</p>\n\n</BODY>\n</HTML>

LOCATION:13200 E 14th Pl, Aurora, CO 80011, USA
END:VEVENT

END:VCALENDAR
