BEGIN:VCALENDAR
VERSION:2.0
PRODID:-//hacksw/handcal//NONSGML v1.0//EN
BEGIN:VEVENT
UID:36e175b6d6be131ce8edfe2ed569038c
DTSTAMP:20260420T072912Z

DTSTART:20240412T100000
DTEND:20240414T170000
SUMMARY:Sarasota Bradenton Home Show 2024
DESCRIPTION:Come out to enjoy the Sarasota Bradenton Home Show! There will be featured showcases of interior designs, hot tub blowout sale, many exhibitors and vendors and so much more!\n\nThe Sarasota Bradenton Home Show will be held on Apr 12th-14th, 2024 in Sarasota, FL. This Sarasota home show is held at Sarasota Fairgrounds and hosted by Florida Home Show.

X-ALT-DESC;FMTTYPE=text/html:<!DOCTYPE HTML PUBLIC "-//W3C//DTD HTML 3.2//EN">\n<HTML>\n<HEAD>\n<META NAME="Generator" CONTENT="MS Exchange Server version 08.00.0681.000">\n<TITLE></TITLE>\n</HEAD>\n<BODY>\n<!-- Converted from text/rtf format -->\n\nCome out to enjoy the Sarasota Bradenton Home Show! There will be featured showcases of interior designs, hot tub blowout sale, many exhibitors and vendors and so much more!<br /><br />The Sarasota Bradenton Home Show will be held on Apr 12th-14th, 2024 in Sarasota, FL. This Sarasota home show is held at Sarasota Fairgrounds and hosted by Florida Home Show.\n\n</BODY>\n</HTML>

LOCATION:3000, Ringling Boulevard, Sarasota, Sarasota County, Florida, 34237, United States
END:VEVENT

END:VCALENDAR
