BEGIN:VCALENDAR
VERSION:2.0
PRODID:-//hacksw/handcal//NONSGML v1.0//EN
BEGIN:VEVENT
UID:6cedec8431710d63fc7c52e3e825c997
DTSTAMP:20260420T061032Z

DTSTART:20240830T120000
DTEND:20240902T180000
SUMMARY:Home Design and Remodeling Show – South Florida 2024
DESCRIPTION:South Florida's LARGEST Home Design and Home Improvement EXPO is HERE! Fort Lauderdale Home Show is the can't miss event for South Florida homeowners where they will be able to meet hundreds of exhibitors showcasing thousands of home products and services to improve your home lifestyle.\n\nThe Home Design and Remodeling Show – South Florida will be held on Aug 30th-Sep 2nd, 2024 in Fort Lauderdale, FL. This Fort Lauderdale home show is held at Broward County Convention Center and hosted by Home Design and Remodeling Show.

X-ALT-DESC;FMTTYPE=text/html:<!DOCTYPE HTML PUBLIC "-//W3C//DTD HTML 3.2//EN">\n<HTML>\n<HEAD>\n<META NAME="Generator" CONTENT="MS Exchange Server version 08.00.0681.000">\n<TITLE></TITLE>\n</HEAD>\n<BODY>\n<!-- Converted from text/rtf format -->\n\nSouth Florida's LARGEST Home Design and Home Improvement EXPO is HERE! Fort Lauderdale Home Show is the can't miss event for South Florida homeowners where they will be able to meet hundreds of exhibitors showcasing thousands of home products and services to improve your home lifestyle.<br /><br />The Home Design and Remodeling Show – South Florida will be held on Aug 30th-Sep 2nd, 2024 in Fort Lauderdale, FL. This Fort Lauderdale home show is held at Broward County Convention Center and hosted by Home Design and Remodeling Show.\n\n</BODY>\n</HTML>

LOCATION:1950, Eisenhower Boulevard, Port Everglades, Fort Lauderdale, Broward County, Florida, 33316, United States
END:VEVENT

END:VCALENDAR
