BEGIN:VCALENDAR
VERSION:2.0
PRODID:-//hacksw/handcal//NONSGML v1.0//EN
BEGIN:VEVENT
UID:855bd6dfefd8bfbe43e325bfe1d1851b
DTSTAMP:20260421T015519Z

DTSTART:20190622T084500
DTEND:20190625T130000
SUMMARY:BOMA International Annual Conference & Expo
DESCRIPTION:Prepare for an event that will take your career to the next level. You’ll meet the most important people in the commercial real estate industry on June 22–25. See the latest innovative products and services designed to make your building run more efficiently and get your tenancy to max capacity. You’ll learn from the best by day with plenty of opportunities for evening networking. In just three days you’ll gain the momentum you need to optimize your building operations and elevate your career.

X-ALT-DESC;FMTTYPE=text/html:<!DOCTYPE HTML PUBLIC "-//W3C//DTD HTML 3.2//EN">\n<HTML>\n<HEAD>\n<META NAME="Generator" CONTENT="MS Exchange Server version 08.00.0681.000">\n<TITLE></TITLE>\n</HEAD>\n<BODY>\n<!-- Converted from text/rtf format -->\n\nPrepare for an event that will take your career to the next level. You’ll meet the most important people in the commercial real estate industry on June 22–25. See the latest innovative products and services designed to make your building run more efficiently and get your tenancy to max capacity. You’ll learn from the best by day with plenty of opportunities for evening networking. In just three days you’ll gain the momentum you need to optimize your building operations and elevate your career.\n\n</BODY>\n</HTML>

LOCATION:100 S W Temple, Salt Lake City, UT 84101, USA
END:VEVENT

END:VCALENDAR
