BEGIN:VCALENDAR
VERSION:2.0
PRODID:-//hacksw/handcal//NONSGML v1.0//EN
BEGIN:VEVENT
UID:01f716c34012a8c0ad1d659bf8e31ffb
DTSTAMP:20260420T051915Z

DTSTART:20240406T090000
DTEND:20240407T160000
SUMMARY:New Home & Remodeling Show 2024
DESCRIPTION:The New Home & Remodeling Show - All Things Home, Inside & Out is the place to check out the latest trends in the home building and remodeling industry! Explore an expansive floor plan featuring local businesses and their products and services.\n\nThe New Home & Remodeling Show will be held on Apr 6th-7th, 2024 in Springfield, IL. This Springfield home show is held at Illinois State Fairgrounds and hosted by Home Builders Association of Springfield Area.

X-ALT-DESC;FMTTYPE=text/html:<!DOCTYPE HTML PUBLIC "-//W3C//DTD HTML 3.2//EN">\n<HTML>\n<HEAD>\n<META NAME="Generator" CONTENT="MS Exchange Server version 08.00.0681.000">\n<TITLE></TITLE>\n</HEAD>\n<BODY>\n<!-- Converted from text/rtf format -->\n\nThe New Home & Remodeling Show - All Things Home, Inside & Out is the place to check out the latest trends in the home building and remodeling industry! Explore an expansive floor plan featuring local businesses and their products and services.<br /><br />The New Home & Remodeling Show will be held on Apr 6th-7th, 2024 in Springfield, IL. This Springfield home show is held at Illinois State Fairgrounds and hosted by Home Builders Association of Springfield Area.\n\n</BODY>\n</HTML>

LOCATION:Illinois State Fairgrounds, 801, East Sangamon Avenue, Ridgely, Springfield, Sangamon County, Illinois, 62794, United States
END:VEVENT

END:VCALENDAR
