BEGIN:VCALENDAR
VERSION:2.0
PRODID:-//hacksw/handcal//NONSGML v1.0//EN
BEGIN:VEVENT
UID:12f5be3cb94571493534403d6fedba6f
DTSTAMP:20260420T003457Z

DTSTART:20240229T100000
DTEND:20240229T120000
SUMMARY:Advanced 1031 Exchanges – In Person
DESCRIPTION:Join us for a 1-hour in person educational course on advanced 1031 exchanges. This program starts with a review of the basic 1031 exchange rules. It then pivots into a discussion of more advanced topics including reverse exchanges, improvement exchanges. It concludes with a discussion of non-traditional replacement property options including NNN properties, Delaware Statutory Trusts, and Oil/Gas/Mineral Royalties. 0 CE for Colorado Agents | No Cost.\n\nRegister today – space is limited!

X-ALT-DESC;FMTTYPE=text/html:<!DOCTYPE HTML PUBLIC "-//W3C//DTD HTML 3.2//EN">\n<HTML>\n<HEAD>\n<META NAME="Generator" CONTENT="MS Exchange Server version 08.00.0681.000">\n<TITLE></TITLE>\n</HEAD>\n<BODY>\n<!-- Converted from text/rtf format -->\n\nJoin us for a 1-hour in person educational course on advanced 1031 exchanges. This program starts with a review of the basic 1031 exchange rules. It then pivots into a discussion of more advanced topics including reverse exchanges, improvement exchanges. It concludes with a discussion of non-traditional replacement property options including NNN properties, Delaware Statutory Trusts, and Oil/Gas/Mineral Royalties. 0 CE for Colorado Agents | No Cost.<br /><br />Register today – space is limited!\n\n</BODY>\n</HTML>

LOCATION:501, South Cherry Street, Glendale, Arapahoe County, Colorado, 80246, United States
END:VEVENT

END:VCALENDAR
