BEGIN:VCALENDAR
VERSION:2.0
PRODID:-//hacksw/handcal//NONSGML v1.0//EN
BEGIN:VEVENT
UID:8d29ae0305893213a8be5f1811708e0a
DTSTAMP:20260419T225626Z

DTSTART:20240227T120000
DTEND:20240227T130000
SUMMARY:The Financial Settlement
DESCRIPTION:Money issues you are more likely to encounter during the settlement process when representing clients in luxury real estate transactions.\n\nCredits - 1\nCost - $0\n\nInstructor Name - Brianna Dowling\nCompany Name - Land Title Guarantee Company

X-ALT-DESC;FMTTYPE=text/html:<!DOCTYPE HTML PUBLIC "-//W3C//DTD HTML 3.2//EN">\n<HTML>\n<HEAD>\n<META NAME="Generator" CONTENT="MS Exchange Server version 08.00.0681.000">\n<TITLE></TITLE>\n</HEAD>\n<BODY>\n<!-- Converted from text/rtf format -->\n\nMoney issues you are more likely to encounter during the settlement process when representing clients in luxury real estate transactions.<br /><br />Credits - 1<br />Cost - $0<br /><br />Instructor Name - Brianna Dowling<br />Company Name - Land Title Guarantee Company\n\n</BODY>\n</HTML>

LOCATION:11859, North Pecos Street, Westminster, Adams County, Colorado, 80234, United States
END:VEVENT

END:VCALENDAR
