BEGIN:VCALENDAR
VERSION:2.0
PRODID:-//hacksw/handcal//NONSGML v1.0//EN
BEGIN:VEVENT
UID:c2f3404bc9d969854f850978812f6292
DTSTAMP:20260420T040939Z

DTSTART:20240319T140000
DTEND:20240319T160000
SUMMARY:Advanced CTM eContracts Live Training
DESCRIPTION:Tuesday, March 19th from 2:00 PM to 4:00 PM\nPresented by CTM eContracts\nFirst Integrity Title – Lakewood Office\n390 Union Blvd – Suite 100\nLakewood, CO 80228\n0 CE | No Cost or 2 CE Credits for Colorado Agents | $20 Per Person\n\nIn this live training course, we will cover the following topics and processes:\nUsing time management tools on the main and detailed dashboards, generating reports for quarterly taxes and tracking marketing strategies, creating and using parent contract templates, completing eContacts and closing MLS info sheets, finding and using HOA, attorney, appraiser, and title databases and more! After registering, you will be provided with the meeting link 1 day prior to the webinar date with login instructions from MRI education services. To register, please login to your MRI Training Academy account and register for the free or paid CE version.

X-ALT-DESC;FMTTYPE=text/html:<!DOCTYPE HTML PUBLIC "-//W3C//DTD HTML 3.2//EN">\n<HTML>\n<HEAD>\n<META NAME="Generator" CONTENT="MS Exchange Server version 08.00.0681.000">\n<TITLE></TITLE>\n</HEAD>\n<BODY>\n<!-- Converted from text/rtf format -->\n\nTuesday, March 19th from 2:00 PM to 4:00 PM<br />Presented by CTM eContracts<br />First Integrity Title – Lakewood Office<br />390 Union Blvd – Suite 100<br />Lakewood, CO 80228<br />0 CE | No Cost or 2 CE Credits for Colorado Agents | $20 Per Person<br /><br />In this live training course, we will cover the following topics and processes:<br />Using time management tools on the main and detailed dashboards, generating reports for quarterly taxes and tracking marketing strategies, creating and using parent contract templates, completing eContacts and closing MLS info sheets, finding and using HOA, attorney, appraiser, and title databases and more! After registering, you will be provided with the meeting link 1 day prior to the webinar date with login instructions from MRI education services. To register, please login to your MRI Training Academy account and register for the free or paid CE version.\n\n</BODY>\n</HTML>

LOCATION:
END:VEVENT

END:VCALENDAR
