BEGIN:VCALENDAR
VERSION:2.0
PRODID:-//hacksw/handcal//NONSGML v1.0//EN
BEGIN:VEVENT
UID:4056b28c80c14700db257727c3db5100
DTSTAMP:20260419T225703Z

DTSTART:20240328T113000
DTEND:20240328T130000
SUMMARY:Lunch & Learn: 360 Farming
DESCRIPTION:This class is tailored specifically for agents who are interested in expanding their knowledge of geographic farming. I’ll be covering what farming is, how to select the right geographic area, optimal list size, brainstorming successful event ideas, the crucial element of consistency in your framing efforts, as well as how to place an order on our marketing site LT.Digital. Light refreshments provided!

X-ALT-DESC;FMTTYPE=text/html:<!DOCTYPE HTML PUBLIC "-//W3C//DTD HTML 3.2//EN">\n<HTML>\n<HEAD>\n<META NAME="Generator" CONTENT="MS Exchange Server version 08.00.0681.000">\n<TITLE></TITLE>\n</HEAD>\n<BODY>\n<!-- Converted from text/rtf format -->\n\nThis class is tailored specifically for agents who are interested in expanding their knowledge of geographic farming. I’ll be covering what farming is, how to select the right geographic area, optimal list size, brainstorming successful event ideas, the crucial element of consistency in your framing efforts, as well as how to place an order on our marketing site LT.Digital. Light refreshments provided!\n\n</BODY>\n</HTML>

LOCATION:Greenwood Plaza Boulevard, Greenwood Village, Arapahoe County, Colorado, 80111, United States
END:VEVENT

END:VCALENDAR
