BEGIN:VCALENDAR
VERSION:2.0
PRODID:-//hacksw/handcal//NONSGML v1.0//EN
BEGIN:VEVENT
UID:29f371ba446bd84dfbba596f49f0e373
DTSTAMP:20260420T021216Z

DTSTART:20240405T140000
DTEND:20240407T170000
SUMMARY:Greater Frisco Home and Garden Show 2024
DESCRIPTION:The Greater Frisco Home and Garden Show will have everything you need to solve your home and garden projects under one roof.\n\nTurn your house into a dream home with seminars, contractors and exhibits showcasing everything you'll need! Check out the latest in Kitchen & Baths, Gardening Advice, Pergola & Pavers, Garage and Closet Organization, Windows & Doors, Security, Roofing & Lighting, Pools, Spas, & Gazebos, Outdoor Living, Furniture and Grills, Flowers, Trees & Plants, and so much more.\n\nSave the date for the Greater Frisco Home and Garden Show, coming to Frisco, TX, on Apr 5th – 7th, 2024. Held at the Ford Center at The Star this event offers a comprehensive look into home and outdoor living trends.\n\nExplore a diverse range of exhibitors showcasing everything from interior design to outdoor recreation. Find inspiration for your living space and outdoor areas, with experts in landscaping, renovation, and furniture offering valuable insights.\n\nAttend interactive workshops and demonstrations led by industry professionals, covering topics like gardening tips, DIY home improvement, and sustainable living practices. Plus, enjoy live music, delicious food trucks, and family-friendly activities throughout the weekend.\n\nBut the Greater Frisco Home and Garden Show is more than just a showcase—it's an interactive experience. Gain information from industry experts eager to share their knowledge and expertise. Learn the secrets of successful gardening, master the art of DIY home improvement, or discover the latest trends in sustainable living practices.\n\nDon't miss this chance to discover new ideas and connect with experts in the field. Whether you're looking to spruce up your home or enhance your outdoor lifestyle, the Greater Frisco Home and Garden Show has something for everyone. Join us for a weekend of inspiration, innovation, and excitement!

X-ALT-DESC;FMTTYPE=text/html:<!DOCTYPE HTML PUBLIC "-//W3C//DTD HTML 3.2//EN">\n<HTML>\n<HEAD>\n<META NAME="Generator" CONTENT="MS Exchange Server version 08.00.0681.000">\n<TITLE></TITLE>\n</HEAD>\n<BODY>\n<!-- Converted from text/rtf format -->\n\nThe Greater Frisco Home and Garden Show will have everything you need to solve your home and garden projects under one roof.<br /><br />Turn your house into a dream home with seminars, contractors and exhibits showcasing everything you'll need! Check out the latest in Kitchen & Baths, Gardening Advice, Pergola & Pavers, Garage and Closet Organization, Windows & Doors, Security, Roofing & Lighting, Pools, Spas, & Gazebos, Outdoor Living, Furniture and Grills, Flowers, Trees & Plants, and so much more.<br /><br />Save the date for the Greater Frisco Home and Garden Show, coming to Frisco, TX, on Apr 5th – 7th, 2024. Held at the Ford Center at The Star this event offers a comprehensive look into home and outdoor living trends.<br /><br />Explore a diverse range of exhibitors showcasing everything from interior design to outdoor recreation. Find inspiration for your living space and outdoor areas, with experts in landscaping, renovation, and furniture offering valuable insights.<br /><br />Attend interactive workshops and demonstrations led by industry professionals, covering topics like gardening tips, DIY home improvement, and sustainable living practices. Plus, enjoy live music, delicious food trucks, and family-friendly activities throughout the weekend.<br /><br />But the Greater Frisco Home and Garden Show is more than just a showcase—it's an interactive experience. Gain information from industry experts eager to share their knowledge and expertise. Learn the secrets of successful gardening, master the art of DIY home improvement, or discover the latest trends in sustainable living practices.<br /><br />Don't miss this chance to discover new ideas and connect with experts in the field. Whether you're looking to spruce up your home or enhance your outdoor lifestyle, the Greater Frisco Home and Garden Show has something for everyone. Join us for a weekend of inspiration, innovation, and excitement!\n\n</BODY>\n</HTML>

LOCATION:9, Cowboys Way, Dallas Cowboys & Frisco Multi Event Center, Frisco, Collin County, Texas, 75034, United States
END:VEVENT

END:VCALENDAR
