BEGIN:VCALENDAR
VERSION:2.0
PRODID:-//hacksw/handcal//NONSGML v1.0//EN
BEGIN:VEVENT
UID:650335f7032ea03c016441240d68bb37
DTSTAMP:20260419T181321Z

DTSTART:20240410T100000
DTEND:20240410T110000
SUMMARY:Confidence on Camera
DESCRIPTION:Want to make videos, but feeling intimidated? Join us on April 10th to learn the best from previous Fox Sports Anchor, Ashley Bromley!\n\nThere will be two opportunities to take this class on April 10, with the first session going from 10:00am – 11:00am and then the second going from 11:30 am -12:30 pm.

X-ALT-DESC;FMTTYPE=text/html:<!DOCTYPE HTML PUBLIC "-//W3C//DTD HTML 3.2//EN">\n<HTML>\n<HEAD>\n<META NAME="Generator" CONTENT="MS Exchange Server version 08.00.0681.000">\n<TITLE></TITLE>\n</HEAD>\n<BODY>\n<!-- Converted from text/rtf format -->\n\nWant to make videos, but feeling intimidated? Join us on April 10th to learn the best from previous Fox Sports Anchor, Ashley Bromley!<br /><br />There will be two opportunities to take this class on April 10, with the first session going from 10:00am – 11:00am and then the second going from 11:30 am -12:30 pm.\n\n</BODY>\n</HTML>

LOCATION:USPS, 1755, Telstar Drive, Colorado Springs, El Paso County, Colorado, 80920, United States
END:VEVENT

END:VCALENDAR
