BEGIN:VCALENDAR
VERSION:2.0
PRODID:-//hacksw/handcal//NONSGML v1.0//EN
BEGIN:VEVENT
UID:bccd9ae577e7c5bfc1b831ca65dfcb47
DTSTAMP:20260420T030456Z

DTSTART:20240408T110000
DTEND:20240408T120000
SUMMARY:Legal Insights with Greg - Apr 8
DESCRIPTION:Join Greg Parham, a seasoned attorney specializing in real estate law, for expert insights tailored specifically for real estate brokers\nEvery Monday  (no class on Monday April 1st)\n\nGet clarity on complex residential real estate transactions and stay ahead of regulatory compliance issues.\n\nExplore in-depth discussions on legal strategies, industry trends, and best practices to help real estate professionals navigate the intricacies of their profession.\n\nWhether you're a seasoned broker or just starting out, tune in to gain valuable knowledge and actionable tips to enhance your practice and ensure compliance with regulatory standards.\n\nDon't miss this essential resource for real estate brokers seeking reliable legal guidance and staying informed in a rapidly evolving industry.

X-ALT-DESC;FMTTYPE=text/html:<!DOCTYPE HTML PUBLIC "-//W3C//DTD HTML 3.2//EN">\n<HTML>\n<HEAD>\n<META NAME="Generator" CONTENT="MS Exchange Server version 08.00.0681.000">\n<TITLE></TITLE>\n</HEAD>\n<BODY>\n<!-- Converted from text/rtf format -->\n\nJoin Greg Parham, a seasoned attorney specializing in real estate law, for expert insights tailored specifically for real estate brokers<br />Every Monday  (no class on Monday April 1st)<br /><br />Get clarity on complex residential real estate transactions and stay ahead of regulatory compliance issues.<br /><br />Explore in-depth discussions on legal strategies, industry trends, and best practices to help real estate professionals navigate the intricacies of their profession.<br /><br />Whether you're a seasoned broker or just starting out, tune in to gain valuable knowledge and actionable tips to enhance your practice and ensure compliance with regulatory standards.<br /><br />Don't miss this essential resource for real estate brokers seeking reliable legal guidance and staying informed in a rapidly evolving industry.\n\n</BODY>\n</HTML>

LOCATION:
END:VEVENT

END:VCALENDAR
