BEGIN:VCALENDAR
VERSION:2.0
PRODID:-//hacksw/handcal//NONSGML v1.0//EN
BEGIN:VEVENT
UID:26d3408dfc1cf17468303d5c234f332a
DTSTAMP:20260420T132105Z

DTSTART:20240415T070000
DTEND:20240417T070000
SUMMARY:American Mortgage Conference 2024
DESCRIPTION:The American Bankers Association and North Carolina Bankers Association host the leading experts in consumer lending and policy to discuss key issues in mortgage lending, analyze the latest news and regulations from Washington, and offer realistic strategies to maximize profitability. \n

X-ALT-DESC;FMTTYPE=text/html:<!DOCTYPE HTML PUBLIC "-//W3C//DTD HTML 3.2//EN">\n<HTML>\n<HEAD>\n<META NAME="Generator" CONTENT="MS Exchange Server version 08.00.0681.000">\n<TITLE></TITLE>\n</HEAD>\n<BODY>\n<!-- Converted from text/rtf format -->\n\nThe American Bankers Association and North Carolina Bankers Association host the leading experts in consumer lending and policy to discuss key issues in mortgage lending, analyze the latest news and regulations from Washington, and offer realistic strategies to maximize profitability. <br />\n\n</BODY>\n</HTML>

LOCATION:Marriott Savannah Riverfront, 100, General McIntosh Boulevard, Robert M Hitch Village, Savannah, Chatham County, Georgia, 31401, United States
END:VEVENT

END:VCALENDAR
