BEGIN:VCALENDAR
VERSION:2.0
PRODID:-//hacksw/handcal//NONSGML v1.0//EN
BEGIN:VEVENT
UID:ff8c2b1e827a8cee00b26d1582703b4f
DTSTAMP:20260421T043314Z

DTSTART:20240619T070000
DTEND:20240621T170000
SUMMARY:2024 Apartmentalize NAA Conference & Trade Show
DESCRIPTION:Whether you’re in management, leasing, marketing or maintenance, if you love working in rental housing, you belong at Apartmentalize. Come find your people in the City of Brotherly Love—connect with colleagues, share ideas, discover solutions and go home with renewed passion for your career.

X-ALT-DESC;FMTTYPE=text/html:<!DOCTYPE HTML PUBLIC "-//W3C//DTD HTML 3.2//EN">\n<HTML>\n<HEAD>\n<META NAME="Generator" CONTENT="MS Exchange Server version 08.00.0681.000">\n<TITLE></TITLE>\n</HEAD>\n<BODY>\n<!-- Converted from text/rtf format -->\n\nWhether you’re in management, leasing, marketing or maintenance, if you love working in rental housing, you belong at Apartmentalize. Come find your people in the City of Brotherly Love—connect with colleagues, share ideas, discover solutions and go home with renewed passion for your career.\n\n</BODY>\n</HTML>

LOCATION:Pennsylvania Convention Center, 1101, Arch Street, Fashion District Philadelphia, Center City, Philadelphia, Philadelphia County, Pennsylvania, 19107, United States
END:VEVENT

END:VCALENDAR
