BEGIN:VCALENDAR
VERSION:2.0
PRODID:-//hacksw/handcal//NONSGML v1.0//EN
BEGIN:VEVENT
UID:1cb887186d4b8b08b80a116b471b04c6
DTSTAMP:20260420T053914Z

DTSTART:20240521T070000
DTEND:20240522T170000
SUMMARY:Inman Connect Miami 2024
DESCRIPTION:Embark on a groundbreaking experience as Inman brings its flagship real estate conference, Inman Connect, to Miami, Florida. At the New World Center in Miami Beach from May 21-22, 2024.\n\nDelve into the core of the major trends shaping the real estate landscape today, unravel their implications for your business, discuss industry innovation, and what it means for your business tomorrow. 

X-ALT-DESC;FMTTYPE=text/html:<!DOCTYPE HTML PUBLIC "-//W3C//DTD HTML 3.2//EN">\n<HTML>\n<HEAD>\n<META NAME="Generator" CONTENT="MS Exchange Server version 08.00.0681.000">\n<TITLE></TITLE>\n</HEAD>\n<BODY>\n<!-- Converted from text/rtf format -->\n\nEmbark on a groundbreaking experience as Inman brings its flagship real estate conference, Inman Connect, to Miami, Florida. At the New World Center in Miami Beach from May 21-22, 2024.<br /><br />Delve into the core of the major trends shaping the real estate landscape today, unravel their implications for your business, discuss industry innovation, and what it means for your business tomorrow. \n\n</BODY>\n</HTML>

LOCATION:New World Center, 500, 17th Street, Miami Beach, Miami-Dade County, Florida, 33139, United States
END:VEVENT

END:VCALENDAR
