BEGIN:VCALENDAR
VERSION:2.0
PRODID:-//hacksw/handcal//NONSGML v1.0//EN
BEGIN:VEVENT
UID:98baeedb6f4f0eafbd9c48775137b35d
DTSTAMP:20260420T025729Z

DTSTART:20240708T100000
DTEND:20240710T170000
SUMMARY:Century21: FLA21 Experience 2024
DESCRIPTION:Embrace the power of Carpe Diem at The 2024 FLA21 Experience. No matter the challenges, no matter the odds, the relentless agents of CENTURY 21® rise above. We don’t bend to the whims of external forces; we set our course and command our seas.\n\nIt’s not just about defying obstacles; it’s about dictating the environment we thrive in. At FLA21, you’ll be armored with the insights, the networks, and the zeal to truly be unstoppable. Can you afford to miss out? The knowledge shared, connections made, the energy, the fun – they’re not just elements of the event; they’re the ingredients of your next success story.\n\nJoin us and realize that nothing will ever stand between a CENTURY 21® agent and their goals. Commit to your growth, and let ‘Carpe Diem’ be more than just a theme; let it be your ethos. The 2024 FLA21 Experience isn’t just an event; it’s the ignition of your boundless potential.”

X-ALT-DESC;FMTTYPE=text/html:<!DOCTYPE HTML PUBLIC "-//W3C//DTD HTML 3.2//EN">\n<HTML>\n<HEAD>\n<META NAME="Generator" CONTENT="MS Exchange Server version 08.00.0681.000">\n<TITLE></TITLE>\n</HEAD>\n<BODY>\n<!-- Converted from text/rtf format -->\n\nEmbrace the power of Carpe Diem at The 2024 FLA21 Experience. No matter the challenges, no matter the odds, the relentless agents of CENTURY 21® rise above. We don’t bend to the whims of external forces; we set our course and command our seas.<br /><br />It’s not just about defying obstacles; it’s about dictating the environment we thrive in. At FLA21, you’ll be armored with the insights, the networks, and the zeal to truly be unstoppable. Can you afford to miss out? The knowledge shared, connections made, the energy, the fun – they’re not just elements of the event; they’re the ingredients of your next success story.<br /><br />Join us and realize that nothing will ever stand between a CENTURY 21® agent and their goals. Commit to your growth, and let ‘Carpe Diem’ be more than just a theme; let it be your ethos. The 2024 FLA21 Experience isn’t just an event; it’s the ignition of your boundless potential.”\n\n</BODY>\n</HTML>

LOCATION:Rosen Shingle Creek, 9939, Universal Boulevard, Orlando, Orange County, Florida, 32819, United States
END:VEVENT

END:VCALENDAR
