BEGIN:VCALENDAR
VERSION:2.0
PRODID:-//hacksw/handcal//NONSGML v1.0//EN
BEGIN:VEVENT
UID:c763d373af27c4761c38936f88ac82e3
DTSTAMP:20260420T005654Z

DTSTART:20241009T090000
DTEND:20241009T170000
SUMMARY:Inman Connect Austin 2024
DESCRIPTION:Join in the vibrant city of Austin, Texas, on October 9th, 2024 for Inman Connect, the ultimate tech gathering for the real estate industry. In an era where innovation and emerging technologies are again at the forefront of real estate, Inman Connect Austin is your gateway to the future. Discover the future of real estate, harness AI, supercharge your business, and gain the tools to shape your success in this fast-changing world.\n\nThis one-day event will provide you with the tools, strategies, and networking opportunities  to not just survive but thrive in this market. 

X-ALT-DESC;FMTTYPE=text/html:<!DOCTYPE HTML PUBLIC "-//W3C//DTD HTML 3.2//EN">\n<HTML>\n<HEAD>\n<META NAME="Generator" CONTENT="MS Exchange Server version 08.00.0681.000">\n<TITLE></TITLE>\n</HEAD>\n<BODY>\n<!-- Converted from text/rtf format -->\n\nJoin in the vibrant city of Austin, Texas, on October 9th, 2024 for Inman Connect, the ultimate tech gathering for the real estate industry. In an era where innovation and emerging technologies are again at the forefront of real estate, Inman Connect Austin is your gateway to the future. Discover the future of real estate, harness AI, supercharge your business, and gain the tools to shape your success in this fast-changing world.<br /><br />This one-day event will provide you with the tools, strategies, and networking opportunities  to not just survive but thrive in this market. \n\n</BODY>\n</HTML>

LOCATION:Brazos Hall, East 4th Street, Downtown, Austin, Travis County, Texas, 78701, United States
END:VEVENT

END:VCALENDAR
