BEGIN:VCALENDAR
VERSION:2.0
PRODID:-//hacksw/handcal//NONSGML v1.0//EN
BEGIN:VEVENT
UID:5659b01d911eaa9768bd7999d536a4f4
DTSTAMP:20260420T070345Z

DTSTART:20240528T120000
DTEND:20240528T130000
SUMMARY:Appraisals for Real Estate Agents
DESCRIPTION:Appraisals are one of the most misunderstood pieces of the real estate transaction.\n\nIn this class you will learn how to evaluate an appraisal, how to interact with the appraiser and what you can and can’t do to ensure that your appraisal will meet your contract price.\n\nClass taught by Aaron Kline and Joe Massey

X-ALT-DESC;FMTTYPE=text/html:<!DOCTYPE HTML PUBLIC "-//W3C//DTD HTML 3.2//EN">\n<HTML>\n<HEAD>\n<META NAME="Generator" CONTENT="MS Exchange Server version 08.00.0681.000">\n<TITLE></TITLE>\n</HEAD>\n<BODY>\n<!-- Converted from text/rtf format -->\n\nAppraisals are one of the most misunderstood pieces of the real estate transaction.<br /><br />In this class you will learn how to evaluate an appraisal, how to interact with the appraiser and what you can and can’t do to ensure that your appraisal will meet your contract price.<br /><br />Class taught by Aaron Kline and Joe Massey\n\n</BODY>\n</HTML>

LOCATION:
END:VEVENT

END:VCALENDAR
