BEGIN:VCALENDAR
VERSION:2.0
PRODID:-//hacksw/handcal//NONSGML v1.0//EN
BEGIN:VEVENT
UID:009aeb1be779f723d109bfcede0b656c
DTSTAMP:20260420T000114Z

DTSTART:20240618T090000
DTEND:20240618T120000
SUMMARY:Property Management: Navigating Colorado’s Legal Landscape
DESCRIPTION:Continuing Education. Are you ready to delve into the intricate world of property management law in Colorado? This class will go through the essential aspects of property management, where you’ll gain invaluable insights and practical knowledge to excel in this dynamic field.\n\n-Understanding the Legal Framework\n-Leasing vs. Management: Demystifying Brokerage Activities\n-Crafting Property Management Agreements\n-Lease Agreements: Mastering the Essentials\n-Accounting Practices: Ensuring Financial Compliance\n-Security Deposits: Compliance and Protection\n-Advertisements, Rental Applications, Tenant Screening: Legal Obligations\n-Evictions: Navigating Forcible Entry and Detainer Actions\n\nCredits - 3\nCost - $40

X-ALT-DESC;FMTTYPE=text/html:<!DOCTYPE HTML PUBLIC "-//W3C//DTD HTML 3.2//EN">\n<HTML>\n<HEAD>\n<META NAME="Generator" CONTENT="MS Exchange Server version 08.00.0681.000">\n<TITLE></TITLE>\n</HEAD>\n<BODY>\n<!-- Converted from text/rtf format -->\n\nContinuing Education. Are you ready to delve into the intricate world of property management law in Colorado? This class will go through the essential aspects of property management, where you’ll gain invaluable insights and practical knowledge to excel in this dynamic field.<br /><br />-Understanding the Legal Framework<br />-Leasing vs. Management: Demystifying Brokerage Activities<br />-Crafting Property Management Agreements<br />-Lease Agreements: Mastering the Essentials<br />-Accounting Practices: Ensuring Financial Compliance<br />-Security Deposits: Compliance and Protection<br />-Advertisements, Rental Applications, Tenant Screening: Legal Obligations<br />-Evictions: Navigating Forcible Entry and Detainer Actions<br /><br />Credits - 3<br />Cost - $40\n\n</BODY>\n</HTML>

LOCATION:
END:VEVENT

END:VCALENDAR
