BEGIN:VCALENDAR
VERSION:2.0
PRODID:-//hacksw/handcal//NONSGML v1.0//EN
BEGIN:VEVENT
UID:4321c126e379d49fe1901589fd6c0863
DTSTAMP:20260420T060742Z

DTSTART:20240716T110000
DTEND:20240716T120000
SUMMARY:Unlock the Power of Instagram
DESCRIPTION:Learn how to leverage Instagram to grow your business. This class will go over optimizing your profile, the Instagram algorithm, engagement strategies and how to create captivating and optimized content to help you reach your business goals.

X-ALT-DESC;FMTTYPE=text/html:<!DOCTYPE HTML PUBLIC "-//W3C//DTD HTML 3.2//EN">\n<HTML>\n<HEAD>\n<META NAME="Generator" CONTENT="MS Exchange Server version 08.00.0681.000">\n<TITLE></TITLE>\n</HEAD>\n<BODY>\n<!-- Converted from text/rtf format -->\n\nLearn how to leverage Instagram to grow your business. This class will go over optimizing your profile, the Instagram algorithm, engagement strategies and how to create captivating and optimized content to help you reach your business goals.\n\n</BODY>\n</HTML>

LOCATION:5975, Greenwood Plaza Boulevard, Greenwood Village, Arapahoe County, Colorado, 80111, United States
END:VEVENT

END:VCALENDAR
