BEGIN:VCALENDAR
VERSION:2.0
PRODID:-//hacksw/handcal//NONSGML v1.0//EN
BEGIN:VEVENT
UID:497c7f6e3a8e7676832410bd4f46579f
DTSTAMP:20260420T042046Z

DTSTART:20240806T140000
DTEND:20240806T140000
SUMMARY:VA Loans - Aug 6
DESCRIPTION:VA loans are a great benefit for our veteran homeowner’s but there are several misconceptions around this great loan program.\n\nThis class will teach you what a VA loan is, who qualifies, how it can benefit your clients and how you can use this loan to sell more homes.\n\nWe’ll also cover how to interview the VA lender and confirm that you are going to make it to the closing with no headaches and a smooth process. \n\nClass taught by Joe Massey & Jerrod Paterson

X-ALT-DESC;FMTTYPE=text/html:<!DOCTYPE HTML PUBLIC "-//W3C//DTD HTML 3.2//EN">\n<HTML>\n<HEAD>\n<META NAME="Generator" CONTENT="MS Exchange Server version 08.00.0681.000">\n<TITLE></TITLE>\n</HEAD>\n<BODY>\n<!-- Converted from text/rtf format -->\n\nVA loans are a great benefit for our veteran homeowner’s but there are several misconceptions around this great loan program.<br /><br />This class will teach you what a VA loan is, who qualifies, how it can benefit your clients and how you can use this loan to sell more homes.<br /><br />We’ll also cover how to interview the VA lender and confirm that you are going to make it to the closing with no headaches and a smooth process. <br /><br />Class taught by Joe Massey & Jerrod Paterson\n\n</BODY>\n</HTML>

LOCATION:
END:VEVENT

END:VCALENDAR
