BEGIN:VCALENDAR
VERSION:2.0
PRODID:-//hacksw/handcal//NONSGML v1.0//EN
BEGIN:VEVENT
UID:f30ec3d6d2f5a0497c8a3ca311b95319
DTSTAMP:20260420T090258Z

DTSTART:20240815T100000
DTEND:20240815T113000
SUMMARY:Understanding the Current Market: Q&A With an Appraiser and Insurance Agent
DESCRIPTION:Continuing Education. Understanding the Current Market: Q&A With an Appraiser and Insurance Agent.\n\nIn this class, industry veterans will share their insights on the current state of the market, including emerging issues and ongoing challenges, as well as how homeowners can prepare to get into the market. Topics will include market stability, the appraisal process under varying circumstances, and the impact of new rules regarding insurance costs and availability.\n\nCost - 0\nCredits - 0\n\n

X-ALT-DESC;FMTTYPE=text/html:<!DOCTYPE HTML PUBLIC "-//W3C//DTD HTML 3.2//EN">\n<HTML>\n<HEAD>\n<META NAME="Generator" CONTENT="MS Exchange Server version 08.00.0681.000">\n<TITLE></TITLE>\n</HEAD>\n<BODY>\n<!-- Converted from text/rtf format -->\n\nContinuing Education. Understanding the Current Market: Q&A With an Appraiser and Insurance Agent.<br /><br />In this class, industry veterans will share their insights on the current state of the market, including emerging issues and ongoing challenges, as well as how homeowners can prepare to get into the market. Topics will include market stability, the appraisal process under varying circumstances, and the impact of new rules regarding insurance costs and availability.<br /><br />Cost - 0<br />Credits - 0<br /><br />\n\n</BODY>\n</HTML>

LOCATION:Library 21C, 1175, Chapel Hills Drive, Colorado Springs, El Paso County, Colorado, 80820, United States
END:VEVENT

END:VCALENDAR
