BEGIN:VCALENDAR
VERSION:2.0
PRODID:-//hacksw/handcal//NONSGML v1.0//EN
BEGIN:VEVENT
UID:51e6cf34f5c531aac18f37195fa20c32
DTSTAMP:20260420T023048Z

DTSTART:20240815T120000
DTEND:20240815T120000
SUMMARY:Investors BRRRR Strategy
DESCRIPTION:Thursday, August 15 · 12:00 PM\nLIVE WEBINAR - Online Event\n\nIn this class Joe will cover the three most effective ways that you can purchase and finance a rental property.\nHe’ll discuss the pros and cons of each and provide case studies for each scenario.\n\nLearn how to purchase a property with no money down, how to finance an investment property and which scenario is the optimal purchasing strategy.\n\nIf you’ve been wondering how to implement the BRRRR strategy, this class will tell you exactly what you need to know and exactly how to do it.\n\nClass taught by Joe Massey & Jerrod Paterson

X-ALT-DESC;FMTTYPE=text/html:<!DOCTYPE HTML PUBLIC "-//W3C//DTD HTML 3.2//EN">\n<HTML>\n<HEAD>\n<META NAME="Generator" CONTENT="MS Exchange Server version 08.00.0681.000">\n<TITLE></TITLE>\n</HEAD>\n<BODY>\n<!-- Converted from text/rtf format -->\n\nThursday, August 15 · 12:00 PM<br />LIVE WEBINAR - Online Event<br /><br />In this class Joe will cover the three most effective ways that you can purchase and finance a rental property.<br />He’ll discuss the pros and cons of each and provide case studies for each scenario.<br /><br />Learn how to purchase a property with no money down, how to finance an investment property and which scenario is the optimal purchasing strategy.<br /><br />If you’ve been wondering how to implement the BRRRR strategy, this class will tell you exactly what you need to know and exactly how to do it.<br /><br />Class taught by Joe Massey & Jerrod Paterson\n\n</BODY>\n</HTML>

LOCATION:
END:VEVENT

END:VCALENDAR
