BEGIN:VCALENDAR
VERSION:2.0
PRODID:-//hacksw/handcal//NONSGML v1.0//EN
BEGIN:VEVENT
UID:ffe8b6a5d91f1b901d8928426cab5930
DTSTAMP:20260420T090944Z

DTSTART:20240821T120000
DTEND:20240821T120000
SUMMARY:Low Down Payment Options - Aug 21
DESCRIPTION:Wednesday, August 21 · 12:00 PM\nLIVE WEBINAR - Online Event\n\nIn this class we’ll show you several different options to help your clients purchase properties with very little money down.\nWe’ll be focusing on primary residence properties (see our other investment property classes to learn how to buy rental properties for no money down).  \n\nWe’ll cover FHA, VA, DPA, CHFA, USDA, MMA and some other great loan programs that you can share with your buyers.  If you have customers who want to buy a house but are worried because they don’t have 20% down, then this class is for YOU!  \n\nWe’ll show you how to buy with $1000, no money down and how to even get money BACK at closing.\n\nClass taught by Joe Massey & Jerrod Paterson

X-ALT-DESC;FMTTYPE=text/html:<!DOCTYPE HTML PUBLIC "-//W3C//DTD HTML 3.2//EN">\n<HTML>\n<HEAD>\n<META NAME="Generator" CONTENT="MS Exchange Server version 08.00.0681.000">\n<TITLE></TITLE>\n</HEAD>\n<BODY>\n<!-- Converted from text/rtf format -->\n\nWednesday, August 21 · 12:00 PM<br />LIVE WEBINAR - Online Event<br /><br />In this class we’ll show you several different options to help your clients purchase properties with very little money down.<br />We’ll be focusing on primary residence properties (see our other investment property classes to learn how to buy rental properties for no money down).  <br /><br />We’ll cover FHA, VA, DPA, CHFA, USDA, MMA and some other great loan programs that you can share with your buyers.  If you have customers who want to buy a house but are worried because they don’t have 20% down, then this class is for YOU!  <br /><br />We’ll show you how to buy with $1000, no money down and how to even get money BACK at closing.<br /><br />Class taught by Joe Massey & Jerrod Paterson\n\n</BODY>\n</HTML>

LOCATION:
END:VEVENT

END:VCALENDAR
