BEGIN:VCALENDAR
VERSION:2.0
PRODID:-//hacksw/handcal//NONSGML v1.0//EN
BEGIN:VEVENT
UID:5df989a4c79415ff6b89139ea6864345
DTSTAMP:20260420T030513Z

DTSTART:20240822T090000
DTEND:20240823T170000
SUMMARY:NYSAR - Zoom - MRP - Military Relocation Professional - August 2024
DESCRIPTION:Date/time: August 22nd - August 23rd\nCE Credit: 6.5 hours\nLocation:\nZoom\nMembers: $125.  CE credit: 6.5 hours Help current and former military service members find housing solutions that best suit their needs.  Gain an understanding of the processes and procedures involved in a military relocation and how these impact service members’ relocation and housing choices. Learn how to identify and provide services that help service members sell or find and purchase suitable homes including how to make the best use of their available benefits including VA financing.

X-ALT-DESC;FMTTYPE=text/html:<!DOCTYPE HTML PUBLIC "-//W3C//DTD HTML 3.2//EN">\n<HTML>\n<HEAD>\n<META NAME="Generator" CONTENT="MS Exchange Server version 08.00.0681.000">\n<TITLE></TITLE>\n</HEAD>\n<BODY>\n<!-- Converted from text/rtf format -->\n\nDate/time: August 22nd - August 23rd<br />CE Credit: 6.5 hours<br />Location:<br />Zoom<br />Members: $125.  CE credit: 6.5 hours Help current and former military service members find housing solutions that best suit their needs.  Gain an understanding of the processes and procedures involved in a military relocation and how these impact service members’ relocation and housing choices. Learn how to identify and provide services that help service members sell or find and purchase suitable homes including how to make the best use of their available benefits including VA financing.\n\n</BODY>\n</HTML>

LOCATION:
END:VEVENT

END:VCALENDAR
