BEGIN:VCALENDAR
VERSION:2.0
PRODID:-//hacksw/handcal//NONSGML v1.0//EN
BEGIN:VEVENT
UID:864fbf6c4725d0c28f9f137d5cbc7ea7
DTSTAMP:20260420T062902Z

DTSTART:20240923T090000
DTEND:20240924T130000
SUMMARY:NYSAR - Resort & Second Home Property Specialist Certification Course (RSPS) (Zoom)
DESCRIPTION:Specialize in buying, selling or managing resort properties and second homes for recreation, investment or development.

X-ALT-DESC;FMTTYPE=text/html:<!DOCTYPE HTML PUBLIC "-//W3C//DTD HTML 3.2//EN">\n<HTML>\n<HEAD>\n<META NAME="Generator" CONTENT="MS Exchange Server version 08.00.0681.000">\n<TITLE></TITLE>\n</HEAD>\n<BODY>\n<!-- Converted from text/rtf format -->\n\nSpecialize in buying, selling or managing resort properties and second homes for recreation, investment or development.\n\n</BODY>\n</HTML>

LOCATION:
END:VEVENT

END:VCALENDAR
