BEGIN:VCALENDAR
VERSION:2.0
PRODID:-//hacksw/handcal//NONSGML v1.0//EN
BEGIN:VEVENT
UID:4ab57a632f026124e4aabae5e41d90f3
DTSTAMP:20260420T025423Z

DTSTART:20241210T170000
DTEND:20241211T190000
SUMMARY:Georgia Realtors - Leadership Training Summit 2024
DESCRIPTION:"The GAR Leadership Training Summit takes place each year in late Fall in order to prepare GAR leaders for the upcoming year. \n\nGAR officers, regional directors, committee chairs and vice chairs, and members of the Executive, Finance, and Administration & Operations Committees are all invited to attend this dynamic event. \n\nPlease save the evening of December 10 and the day of December 11, 2024 for the 2025 Leadership Training. More details will be available in October 2024."

X-ALT-DESC;FMTTYPE=text/html:<!DOCTYPE HTML PUBLIC "-//W3C//DTD HTML 3.2//EN">\n<HTML>\n<HEAD>\n<META NAME="Generator" CONTENT="MS Exchange Server version 08.00.0681.000">\n<TITLE></TITLE>\n</HEAD>\n<BODY>\n<!-- Converted from text/rtf format -->\n\n"The GAR Leadership Training Summit takes place each year in late Fall in order to prepare GAR leaders for the upcoming year. <br /><br />GAR officers, regional directors, committee chairs and vice chairs, and members of the Executive, Finance, and Administration & Operations Committees are all invited to attend this dynamic event. <br /><br />Please save the evening of December 10 and the day of December 11, 2024 for the 2025 Leadership Training. More details will be available in October 2024."\n\n</BODY>\n</HTML>

LOCATION:Georgia, United States
END:VEVENT

END:VCALENDAR
