BEGIN:VCALENDAR
VERSION:2.0
PRODID:-//hacksw/handcal//NONSGML v1.0//EN
BEGIN:VEVENT
UID:acf1ed5f2582dfb9598c5344b65dcc13
DTSTAMP:20260420T090043Z

DTSTART:20240916T090000
DTEND:20240918T170000
SUMMARY:PAR Fall Business Meetings 2025
DESCRIPTION:Held three times annually and open to all members, PAR Business Meetings present the opportunity for member committees and the board of directors to analyze and formulate policies on issues affecting the industry and the association.\n\n

X-ALT-DESC;FMTTYPE=text/html:<!DOCTYPE HTML PUBLIC "-//W3C//DTD HTML 3.2//EN">\n<HTML>\n<HEAD>\n<META NAME="Generator" CONTENT="MS Exchange Server version 08.00.0681.000">\n<TITLE></TITLE>\n</HEAD>\n<BODY>\n<!-- Converted from text/rtf format -->\n\nHeld three times annually and open to all members, PAR Business Meetings present the opportunity for member committees and the board of directors to analyze and formulate policies on issues affecting the industry and the association.<br /><br />\n\n</BODY>\n</HTML>

LOCATION:Hilton Harrisburg, North 2nd Street, SoMa, Harrisburg, Dauphin County, Pennsylvania, 17126, United States
END:VEVENT

END:VCALENDAR
