BEGIN:VCALENDAR
VERSION:2.0
PRODID:-//hacksw/handcal//NONSGML v1.0//EN
BEGIN:VEVENT
UID:060988c3061eb8447e7879e7f94a6d9c
DTSTAMP:20260419T183150Z

DTSTART:20240911T090000
DTEND:20240911T163000
SUMMARY:Pennsylvania Realtors - Valuation of Residential Real Estate - September 2024
DESCRIPTION:This course covers the principles and practices of real estate appraisal, including general data analysis, residential real estate markets, neighborhood analysis, site description and analysis, highest and best use, specific data and improvement analysis, principles of value, gross rent multiplier and special appraisal techniques.

X-ALT-DESC;FMTTYPE=text/html:<!DOCTYPE HTML PUBLIC "-//W3C//DTD HTML 3.2//EN">\n<HTML>\n<HEAD>\n<META NAME="Generator" CONTENT="MS Exchange Server version 08.00.0681.000">\n<TITLE></TITLE>\n</HEAD>\n<BODY>\n<!-- Converted from text/rtf format -->\n\nThis course covers the principles and practices of real estate appraisal, including general data analysis, residential real estate markets, neighborhood analysis, site description and analysis, highest and best use, specific data and improvement analysis, principles of value, gross rent multiplier and special appraisal techniques.\n\n</BODY>\n</HTML>

LOCATION:1, Country View Road, Malvern, Chester County, Pennsylvania, 19355, United States
END:VEVENT

END:VCALENDAR
