BEGIN:VCALENDAR
VERSION:2.0
PRODID:-//hacksw/handcal//NONSGML v1.0//EN
BEGIN:VEVENT
UID:5a4979cf208fedc280fffc16259db8b0
DTSTAMP:20260420T041337Z

DTSTART:20240828T120000
DTEND:20240828T120000
SUMMARY:VA Loans - Sept 4
DESCRIPTION:Wednesday, September 4 · 12:00 PM\nLIVE WEBINAR - Online Event\n\nVA loans are a great benefit for our veteran homeowner’s but there are several misconceptions around this great loan program.\nThis class will teach you what a VA loan is, who qualifies, how it can benefit your clients and how you can use this loan to sell more homes. We’ll also cover how to interview the VA lender and confirm that you are going to make it to the closing with no headaches and a smooth process.\n\nClass taught by Joe Massey & Jerrod Paterson\n\n

X-ALT-DESC;FMTTYPE=text/html:<!DOCTYPE HTML PUBLIC "-//W3C//DTD HTML 3.2//EN">\n<HTML>\n<HEAD>\n<META NAME="Generator" CONTENT="MS Exchange Server version 08.00.0681.000">\n<TITLE></TITLE>\n</HEAD>\n<BODY>\n<!-- Converted from text/rtf format -->\n\nWednesday, September 4 · 12:00 PM<br />LIVE WEBINAR - Online Event<br /><br />VA loans are a great benefit for our veteran homeowner’s but there are several misconceptions around this great loan program.<br />This class will teach you what a VA loan is, who qualifies, how it can benefit your clients and how you can use this loan to sell more homes. We’ll also cover how to interview the VA lender and confirm that you are going to make it to the closing with no headaches and a smooth process.<br /><br />Class taught by Joe Massey & Jerrod Paterson<br /><br />\n\n</BODY>\n</HTML>

LOCATION:
END:VEVENT

END:VCALENDAR
