BEGIN:VCALENDAR
VERSION:2.0
PRODID:-//hacksw/handcal//NONSGML v1.0//EN
BEGIN:VEVENT
UID:feb2b95f3457b8629fd56d7e22cb95ab
DTSTAMP:20260420T062746Z

DTSTART:20240925T080000
DTEND:20240926T153000
SUMMARY:Minnesota Realtors - UNITE 2024
DESCRIPTION:There’s something for everyone at UNITE! Success strategies from top industry leaders, learning opportunities for CE, and a chance to network with other real estate professionals. Being part of the Realtor® community is about helping the industry be stronger for all.\n\nWhat does your registration include?\nAll general sessions and breakout sessions\nContinental breakfast—both days\nLunch on Wednesday, September 25th\nExpo and lunch on Thursday, September 26th \nNetworking with your peers and industry leaders\nFun!

X-ALT-DESC;FMTTYPE=text/html:<!DOCTYPE HTML PUBLIC "-//W3C//DTD HTML 3.2//EN">\n<HTML>\n<HEAD>\n<META NAME="Generator" CONTENT="MS Exchange Server version 08.00.0681.000">\n<TITLE></TITLE>\n</HEAD>\n<BODY>\n<!-- Converted from text/rtf format -->\n\nThere’s something for everyone at UNITE! Success strategies from top industry leaders, learning opportunities for CE, and a chance to network with other real estate professionals. Being part of the Realtor® community is about helping the industry be stronger for all.<br /><br />What does your registration include?<br />All general sessions and breakout sessions<br />Continental breakfast—both days<br />Lunch on Wednesday, September 25th<br />Expo and lunch on Thursday, September 26th <br />Networking with your peers and industry leaders<br />Fun!\n\n</BODY>\n</HTML>

LOCATION:Duluth Entertainment Convention Center, South 5th Avenue West, Central Business District, Duluth, Saint Louis County, Minnesota, 55802, United States
END:VEVENT

END:VCALENDAR
