BEGIN:VCALENDAR
VERSION:2.0
PRODID:-//hacksw/handcal//NONSGML v1.0//EN
BEGIN:VEVENT
UID:b9fd3030bb0d4cde225aec82b03cfe90
DTSTAMP:20260420T111648Z

DTSTART:20241017T093000
DTEND:20241017T173000
SUMMARY:Arkansas Realtors - CRS Bootcamp with Dale Carlton 2024
DESCRIPTION:CRS Class from Dale Carlton at the Little Rock REALTORS® Association

X-ALT-DESC;FMTTYPE=text/html:<!DOCTYPE HTML PUBLIC "-//W3C//DTD HTML 3.2//EN">\n<HTML>\n<HEAD>\n<META NAME="Generator" CONTENT="MS Exchange Server version 08.00.0681.000">\n<TITLE></TITLE>\n</HEAD>\n<BODY>\n<!-- Converted from text/rtf format -->\n\nCRS Class from Dale Carlton at the Little Rock REALTORS® Association\n\n</BODY>\n</HTML>

LOCATION:Little Rock, Pulaski County, Arkansas, United States
END:VEVENT

END:VCALENDAR
