BEGIN:VCALENDAR
VERSION:2.0
PRODID:-//hacksw/handcal//NONSGML v1.0//EN
BEGIN:VEVENT
UID:c01c26c2216f42878369732eb31c511d
DTSTAMP:20260420T045959Z

DTSTART:20240917T100000
DTEND:20240917T130000
SUMMARY:Ugly truth, Not Pretty Lies About The Mortgage Industry
DESCRIPTION:Tuesday, September 17th from 10:00 AM – 1:00 PM\nPresented by Todd L Pazol of Paol Mortgage LLC\n\nFrom A to Z and how to find/pick the best loan officer and the correct way to shop and the Loan Process like you have not seen before

X-ALT-DESC;FMTTYPE=text/html:<!DOCTYPE HTML PUBLIC "-//W3C//DTD HTML 3.2//EN">\n<HTML>\n<HEAD>\n<META NAME="Generator" CONTENT="MS Exchange Server version 08.00.0681.000">\n<TITLE></TITLE>\n</HEAD>\n<BODY>\n<!-- Converted from text/rtf format -->\n\nTuesday, September 17th from 10:00 AM – 1:00 PM<br />Presented by Todd L Pazol of Paol Mortgage LLC<br /><br />From A to Z and how to find/pick the best loan officer and the correct way to shop and the Loan Process like you have not seen before\n\n</BODY>\n</HTML>

LOCATION:
END:VEVENT

END:VCALENDAR
