BEGIN:VCALENDAR
VERSION:2.0
PRODID:-//hacksw/handcal//NONSGML v1.0//EN
BEGIN:VEVENT
UID:bb1b69789eb991dfb021d4dbf7f7c73c
DTSTAMP:20260420T130254Z

DTSTART:20240916T080000
DTEND:20240919T160000
SUMMARY:Maryland Realtors 2024 Annual Conference
DESCRIPTION:September 16, 2024 – September 19, 2024\nRoland E. Powell Convention Center\n4001 Coastal Highway\nOcean City, MD 21842

X-ALT-DESC;FMTTYPE=text/html:<!DOCTYPE HTML PUBLIC "-//W3C//DTD HTML 3.2//EN">\n<HTML>\n<HEAD>\n<META NAME="Generator" CONTENT="MS Exchange Server version 08.00.0681.000">\n<TITLE></TITLE>\n</HEAD>\n<BODY>\n<!-- Converted from text/rtf format -->\n\nSeptember 16, 2024 – September 19, 2024<br />Roland E. Powell Convention Center<br />4001 Coastal Highway<br />Ocean City, MD 21842\n\n</BODY>\n</HTML>

LOCATION:Roland E. Powell Convention Center, 4001, Coastal Highway, Ocean City, Worcester County, Maryland, 21842, United States
END:VEVENT

END:VCALENDAR
