BEGIN:VCALENDAR
VERSION:2.0
PRODID:-//hacksw/handcal//NONSGML v1.0//EN
BEGIN:VEVENT
UID:66292722c779cf4bc90d129bdba3bb02
DTSTAMP:20260420T042423Z

DTSTART:20240925T090000
DTEND:20240925T120000
SUMMARY:Vermont Realtors - Realtor Safety Course - September 2024
DESCRIPTION:Developed in partnership with NAR’s REALTOR® Safety program, this three-hour course is an essential primer on how real estate professionals can limit risk to preserve safety; their safety, their client’s safety, and for positive business outcomes. Students will learn how to assess risk in their current practice and create safety systems, scripts, and tools for listing appointments, showing property, and conducting open houses. Students will also learn how to protect personal and electronic information online, in the cloud, and on social networks. As a practical resource, this course offers easy-to-remember strategies for real estate professionals when facing potentially dangerous situations.\n\nCost: $30\n3 hours Vermont CE Credit\nInstructor: Kristin Chandler

X-ALT-DESC;FMTTYPE=text/html:<!DOCTYPE HTML PUBLIC "-//W3C//DTD HTML 3.2//EN">\n<HTML>\n<HEAD>\n<META NAME="Generator" CONTENT="MS Exchange Server version 08.00.0681.000">\n<TITLE></TITLE>\n</HEAD>\n<BODY>\n<!-- Converted from text/rtf format -->\n\nDeveloped in partnership with NAR’s REALTOR® Safety program, this three-hour course is an essential primer on how real estate professionals can limit risk to preserve safety; their safety, their client’s safety, and for positive business outcomes. Students will learn how to assess risk in their current practice and create safety systems, scripts, and tools for listing appointments, showing property, and conducting open houses. Students will also learn how to protect personal and electronic information online, in the cloud, and on social networks. As a practical resource, this course offers easy-to-remember strategies for real estate professionals when facing potentially dangerous situations.<br /><br />Cost: $30<br />3 hours Vermont CE Credit<br />Instructor: Kristin Chandler\n\n</BODY>\n</HTML>

LOCATION:
END:VEVENT

END:VCALENDAR
