BEGIN:VCALENDAR
VERSION:2.0
PRODID:-//hacksw/handcal//NONSGML v1.0//EN
BEGIN:VEVENT
UID:e0e7ac232052c30388e783d8911726fc
DTSTAMP:20260420T095812Z

DTSTART:20241001T090000
DTEND:20241004T170000
SUMMARY:Idaho Realtors 2024 Convention
DESCRIPTION:The 2024 Idaho REALTORS Convention is right around the corner! Join us October 1st – 4th at the Boise Centre East facility, located in the heart of Downtown Boise in the Grove Plaza. Register today for our early bird rate, and reserve your spot for the largest IR event of the year!

X-ALT-DESC;FMTTYPE=text/html:<!DOCTYPE HTML PUBLIC "-//W3C//DTD HTML 3.2//EN">\n<HTML>\n<HEAD>\n<META NAME="Generator" CONTENT="MS Exchange Server version 08.00.0681.000">\n<TITLE></TITLE>\n</HEAD>\n<BODY>\n<!-- Converted from text/rtf format -->\n\nThe 2024 Idaho REALTORS Convention is right around the corner! Join us October 1st – 4th at the Boise Centre East facility, located in the heart of Downtown Boise in the Grove Plaza. Register today for our early bird rate, and reserve your spot for the largest IR event of the year!\n\n</BODY>\n</HTML>

LOCATION:Boise Centre East, 195, South Capitol Boulevard, Downtown, Boise, Ada County, Idaho, 83702, United States
END:VEVENT

END:VCALENDAR
