BEGIN:VCALENDAR
VERSION:2.0
PRODID:-//hacksw/handcal//NONSGML v1.0//EN
BEGIN:VEVENT
UID:b97f6fc3863e5ba1d89ecd6899344460
DTSTAMP:20260420T035530Z

DTSTART:20240918T070000
DTEND:20240920T170000
SUMMARY:Washington Realtors 2024 Fall Business Conference
DESCRIPTION:Get ready for an eventful experience at the Three Rivers Convention Center from Wednesday, September 18 to Friday, September 20, 2024. Join us for governance and committee meetings and networking opportunities. Plus, don't miss our Leadership Elections and Member Forum!

X-ALT-DESC;FMTTYPE=text/html:<!DOCTYPE HTML PUBLIC "-//W3C//DTD HTML 3.2//EN">\n<HTML>\n<HEAD>\n<META NAME="Generator" CONTENT="MS Exchange Server version 08.00.0681.000">\n<TITLE></TITLE>\n</HEAD>\n<BODY>\n<!-- Converted from text/rtf format -->\n\nGet ready for an eventful experience at the Three Rivers Convention Center from Wednesday, September 18 to Friday, September 20, 2024. Join us for governance and committee meetings and networking opportunities. Plus, don't miss our Leadership Elections and Member Forum!\n\n</BODY>\n</HTML>

LOCATION:Three Rivers Convention Center, West Grandridge Boulevard, Kennewick, Benton County, Washington, 99338, United States
END:VEVENT

END:VCALENDAR
